BEGIN:VCALENDAR
VERSION:2.0
X-WR-TIMEZONE:Europe/Paris
PRODID:-//Audencia//NONSGML v1.0//EN
CALSCALE:GREGORIAN
BEGIN:VEVENT
SUMMARY:CLUB BUSINESS | Afterwork [SAVE THE DATE]
DTSTART:20240528T200000
DTEND:20240528T220000
UID:1726
DTSTAMP:20260425T210406
LOCATION:TBC
DESCRIPTION:Plus de détails à venir ! 
BEGIN:VALARM
ACTION:DISPLAY
TRIGGER:-PT60M
DESCRIPTION:CLUB BUSINESS | Afterwork [SAVE THE DATE]
END:VALARM
END:VEVENT
END:VCALENDAR