BEGIN:VCALENDAR
VERSION:2.0
X-WR-TIMEZONE:Europe/Paris
PRODID:-//Audencia//NONSGML v1.0//EN
CALSCALE:GREGORIAN
BEGIN:VEVENT
SUMMARY:PROGRAMME MSc FAM | Afterwork with 2024 cohort
DTSTART:20240223T193000
DTEND:20240223T220000
UID:1725
DTSTAMP:20260425T210432
LOCATION:La Boissonniere Charonne 52 Rue Léon Frot 75011 Paris
DESCRIPTION:The current Master of Science / MBA in Food and Agribusiness Management (MSc FAM) students will be in Paris from February 23 to 24 for the Salon de l'Agriculture.\n\nWe would like to take this opportunity to catch up with our FAM and other Audencia alumni working in the food and agribusiness fields.\n\nJoin us on Friday, February 23 for an afterwork at 7.30pm at La Boissonnière Charonne (Paris 75011).\n \n\n= Registrations are compulsory =\n\n\n\nQuestion? : nushad.merchant@audencia.com
BEGIN:VALARM
ACTION:DISPLAY
TRIGGER:-PT60M
DESCRIPTION:PROGRAMME MSc FAM | Afterwork with 2024 cohort
END:VALARM
END:VEVENT
END:VCALENDAR