BEGIN:VCALENDAR
VERSION:2.0
X-WR-TIMEZONE:Europe/Paris
PRODID:-//Audencia//NONSGML v1.0//EN
CALSCALE:GREGORIAN
BEGIN:VEVENT
SUMMARY:CLUB OENOLOGIE | Soirée de lancement
DTSTART:20240319T193000
DTEND:20240319T220000
UID:1723
DTSTAMP:20260425T210209
LOCATION:Audencia Paris-Saint Ouen 4 Passage Colisée 93400 Saint-Ouen
DESCRIPTION:Audencia a le plaisir de vous convier à la soirée de lancement de son Club Oenologie le mardi 19 mars de 19h30 à 22h sur le campus Paris-Saint-Ouen.\n\nAmateurs éclairés, dégustateurs avertis, ou néophytes bons vivants, rejoignez-nous dans cette formidable aventure!\n\nPour cette première du Club, il sera question de la vocation de ce club, de sa philosophie, de ses engagements.\n\n« Le vin doit avoir la gueule de l’endroit et les tripes de l’homme… Au fond du verre, je veux retrouver le paysage du lieu où je suis. » - Jacques Puisais\n\nIl sera aussi question de dégustation, puisque nous partagerons avec vous 5 cuvées, qui sont autant de clins d’œils à cette célèbre citation de Jacques Puisais, et qui résume si incroyablement tout l’esprit de ce Club Oenologie, de votre Club Oenologie.\n\nEpicuriens en soif d’authenticité, de vérité, de respect des Terroirs, nous vous attendons nombreux !\n \n\nPlaces limitées. Inscriptions obligatoires*\n\n\n\nQuestions : nushad.merchant@audencia.com\n \n\n*Pas de remboursement possible. Toute inscription est définitive.
BEGIN:VALARM
ACTION:DISPLAY
TRIGGER:-PT60M
DESCRIPTION:CLUB OENOLOGIE | Soirée de lancement
END:VALARM
END:VEVENT
END:VCALENDAR