BEGIN:VCALENDAR
VERSION:2.0
X-WR-TIMEZONE:Europe/Paris
PRODID:-//Audencia//NONSGML v1.0//EN
CALSCALE:GREGORIAN
BEGIN:VEVENT
SUMMARY:CLUB IN TECH I Retour du salon CES 2024 by Niji
DTSTART:20240123T183000
DTEND:20240123T203000
UID:1722
DTSTAMP:20260425T210151
LOCATION:Mediacampus  Boulevard de la Prairie aux Ducs
DESCRIPTION:\n\nMardi 23 janvier, de 18h30 à 20h30, au Mediacampus, venez prendre part à la synthèse de cette expérience unique sur le thème de l'innovation technologique en électronique.\n \nComme tous les ans, Las Vegas accueille tout ce qui se fait de mieux en terme d’innovation électronique et numérique lors du grand salon CES, rendez-vous annuel incontournable pour comprendre, imaginer, s’inspirer, challenger voire dénoncer les usages et technologies de demain.\n\nDepuis 10 ans, une équipe Niji pluridisciplinaire prend part à la rencontre des start-ups et autres leaders mondiaux du secteur. De retour en France, nos envoyés spéciaux vous proposent un décryptage exclusif alliant analyses pragmatiques et mises en perspectives des dernières annonces du CES.\n\nCette année, nous parlerons santé numérique, foodtech, mobilité, durabilité, life style, maison intelligente mais aussi bien sûr d'intelligence artificielle !\n\nLa présentation sera suivie d’un cocktail dinatoire auquel vous êtes conviés.\n\n \n\nFavorisez les transports doux\n\n? Arrêt Gare de l'Etat ( Busway C5)\n? Stations Bicloo : Prairie au duc\n? Parking : Machines ou Bd de la Prairie au Duc ( Faible taux de réussite) \n\n\n\nInscription obligatoire sur l'évènement EVENTBRITE : \nhttps://www.eventbrite.fr/e/billets-debrief-ces-2024-et-decryptage-des-tendances-by-niji-x-audencia-nantes-768234639487
BEGIN:VALARM
ACTION:DISPLAY
TRIGGER:-PT60M
DESCRIPTION:CLUB IN TECH I Retour du salon CES 2024 by Niji
END:VALARM
END:VEVENT
END:VCALENDAR