BEGIN:VCALENDAR
VERSION:2.0
X-WR-TIMEZONE:Europe/Paris
PRODID:-//Audencia//NONSGML v1.0//EN
CALSCALE:GREGORIAN
BEGIN:VEVENT
SUMMARY:CV PHOTO SHOOT during Career Connections Week, Audencia Atlantic Campus, Nantes
DTSTART:20240122T140000
DTEND:20240124T000000
UID:1720
DTSTAMP:20260425T210431
LOCATION:AUDENCIA Atlantic campus
DESCRIPTION:\nOn the occasion of the Career Connections Week - 22-24 January 2023 - dedicated to 1st year Grande Ecole students, a professional photographer will be present to take a professional picture* that you can use for your CV and social networks.\n\nThe session takes place in room 49 without appointment between 2.30pm and 5pm (first come, first serve basis).\n\n*business attire recommended!\n\n \nDownload your picture from the photo gallery \n12 February onwards\n(remember to connect to your Together account)\n \n\n
BEGIN:VALARM
ACTION:DISPLAY
TRIGGER:-PT60M
DESCRIPTION:CV PHOTO SHOOT during Career Connections Week, Audencia Atlantic Campus, Nantes
END:VALARM
END:VEVENT
END:VCALENDAR