BEGIN:VCALENDAR
VERSION:2.0
X-WR-TIMEZONE:Europe/Paris
PRODID:-//Audencia//NONSGML v1.0//EN
CALSCALE:GREGORIAN
BEGIN:VEVENT
SUMMARY:PROGRAMMES | Conférence - Les défis du sport à horizon 2030 et leurs impacts sur vos carrières
DTSTART:20240227T180000
DTEND:20240227T213000
UID:1719
DTSTAMP:20260425T210326
LOCATION:Audencia Paris-Saint-Ouen 4 Passage Colisée 93400 Saint-Ouen
DESCRIPTION:\n \n\n\n	\n		\n			\n			\n				\n					\n						\n						\n							\n								\n									\n									\n										\n											\n												\n												\n													\n														\n															Chers diplômés du MROS,\n															\n															Audencia, à travers son campus parisien au cœur du village olympique des Jeux 2024, vous propose une soirée thématique autour du sport et de ses défis à horizons 2030 à travers 2 temps forts : une conférence et un moment de networking.\n														\n													\n												\n												\n											\n										\n									\n\n									\n										\n											\n												Evènement réservé au public Audencia (Etudiants / Alumni)\n												Nombre de places limitées - Inscriptions obligatoires\n											\n										\n									\n									\n								\n							\n						\n						\n					\n				\n			\n			\n		\n		\n			 \n		\n	\n\n\n\nEchangez avec des entreprises du secteur \n\nDes entreprises et des organisations phares du secteur comme Sportfive, Paris Basketball, Allianz, Adidas, Ville de Saint-Ouen, Red Star FC seront présentes pour échanger avec vous : \n\n\n	en one-to-one de 18h00 à 19h00 avant la conférence\n	autour d'un cocktail apéritif après la conférence de 20h00 à 21h30\n\n \n\n\nVenez vous inspirer des professionnels de votre secteur !\nConférence inspirante - 19h00 à 20h00\nAnimée par  \nPaul Edmond BETREMIEUX et Étienne CASSAGNE, co-fondateurs de BOOST\nJoseph BIZARD, DG de OC Sport\nGatien LETARTRE, CEO de TrainMe\n\n\n	Comprendre les enjeux RSE du monde du sport et leurs impacts sur votre carrière\n	Décrypter quel sera votre rôle dans cette transition\n	Déceler les opportunités de demain\n\n\nJe m'inscris à la soirée\n\nL'équipe Audencia Alumni sera également présente pour échanger sur les dernières nouveautés de l'école et répondre à toutes vos questions.
BEGIN:VALARM
ACTION:DISPLAY
TRIGGER:-PT60M
DESCRIPTION:PROGRAMMES | Conférence - Les défis du sport à horizon 2030 et leurs impacts sur vos carrières
END:VALARM
END:VEVENT
END:VCALENDAR