BEGIN:VCALENDAR
VERSION:2.0
X-WR-TIMEZONE:Europe/Paris
PRODID:-//Audencia//NONSGML v1.0//EN
CALSCALE:GREGORIAN
BEGIN:VEVENT
SUMMARY:WEBINAR | How to Take a Great Career Break
DTSTART:20240418T170000
DTEND:20240418T180000
UID:1718
DTSTAMP:20260425T210210
LOCATION:
DESCRIPTION:DATE: Thursday 18 April 2024\nTIME: 17:00 to 18:00 Paris time\n\nAs the model of lifetime continuous employment breaks down, more and more of us are taking career breaks. Sometimes these are positive: a chance to reflect and recharge. Sometimes breaks are forced upon us.\n\nWhatever your situation a career break represents both an opportunity and a threat.\n\nIn this webinar we will look at different models of career breaks and investigate how people can best use a period away from work. We will examine \n\n\n	Three different models of sabbatical\n	When career breaks work best and for whom\n	How to end a long break and get back to work\n	How to derisk options and negotiate with your employer\n	Using a career break to explore new career options\n\n\n REGISTRATION\nWe have 200 free tickets for Audencia's alumni and students\n(use code "AUD-student" if the ticket does not show)\n\n\n\n\nAbout the speakers\n\n\nJulianne Miles\n\nJulianne Miles MBE is a Chartered Psychologist and social entrepreneur, with a business background and an INSEAD MBA. As Co-Founder & CEO of Women Returners, experts in enabling professionals to return to work after an extended career break, she has worked with forward-thinking organisations to develop the returner programme market in the UK and Ireland. She was awarded an MBE for services to business and equality in 2019.\n\nKira Schabram\n\nProfessor Kira Schabram is an assistant professor at the University of Washington’s Foster School of Business and the Evert McCabe Endowed Fellow in Private Enterprise.\n\n\nAUDENCIA's WEBINAR LIBRARY\nUnlimited access for Audencia students and alumni\n \nWe are delighted to offer all Audencia students and alumni access to a library of careers webinars featuring world-class management thinkers like Steve Dalton, Dorie Clark and Daniel Porot.\n\nAll Audencia alumni and students now have unlimited access to the portal which includes:\n\n	Advice on, job-hunting and interviewing, international and portfolio careers and how to be a better boss\n	Videos optimised for mobiles and tablets\n	Unlimited – free online access to all Audencia students and alumni\n\n\nRegister for your individual account here
BEGIN:VALARM
ACTION:DISPLAY
TRIGGER:-PT60M
DESCRIPTION:WEBINAR | How to Take a Great Career Break
END:VALARM
END:VEVENT
END:VCALENDAR