BEGIN:VCALENDAR
VERSION:2.0
X-WR-TIMEZONE:Europe/Paris
PRODID:-//Audencia//NONSGML v1.0//EN
CALSCALE:GREGORIAN
BEGIN:VEVENT
SUMMARY:WEBINAR | How to Navigate a Toxic Workplace
DTSTART:20240521T130000
DTEND:20240521T140000
UID:1717
DTSTAMP:20260425T211249
LOCATION:
DESCRIPTION:DATE: Tuesday 21 May 2024\nTIME: 13:00 to 14:00 Paris time\n\nWorkplace toxicity comes in many forms. Sometimes personal vendettas run riot, or impossible workloads become the norm. Sometimes bullies are allowed to thrive and bosses are absent.\n\nA key symptom of toxicity is that open dialogue shuts down. This broken communication hurts everyone; but those with less power in particular need good communication and influencing skills.\n\nIn this webinar, with Professor Connson Locke we examine the different strategies we can adopt when mistrust is high and collaboration is not happening.\n\nWe will discuss:\n\n\n	Why you need to clearly diagnose sources of toxicity\n	What to do if your boss is hostile, absent or indifferent\n	How to deal with bias and stereotyping\n	How to recruit allies and gain influence\n	How toxic behaviour starts and why it is tolerated\n	When to stay and when to go.\n\n\n REGISTRATION\nWe have 200 free tickets for Audencia's alumni and students\n(use code "AUD-student" if the ticket does not show)\n\n\n\n\nAbout the speaker\n\nProfessor Connson Locke teaches leadership, organisational behaviour, negotiation and decision making at the London School of Economics. She has received several teaching awards including the Department of Management Outstanding Teaching Contribution Award and the LSE Excellence in Education Award. She is the author of Making Your Voice Heard: How to own your space, access your inner power and become influential.\n\n\nAUDENCIA's WEBINAR LIBRARY\nUnlimited access for Audencia students and alumni\n \nWe are delighted to offer all Audencia students and alumni access to a library of careers webinars featuring world-class management thinkers like Steve Dalton, Dorie Clark and Daniel Porot.\n\nAll Audencia alumni and students now have unlimited access to the portal which includes:\n\n	Advice on, job-hunting and interviewing, international and portfolio careers and how to be a better boss\n	Videos optimised for mobiles and tablets\n	Unlimited – free online access to all Audencia students and alumni\n\n\nRegister for your individual account here
BEGIN:VALARM
ACTION:DISPLAY
TRIGGER:-PT60M
DESCRIPTION:WEBINAR | How to Navigate a Toxic Workplace
END:VALARM
END:VEVENT
END:VCALENDAR