BEGIN:VCALENDAR
VERSION:2.0
X-WR-TIMEZONE:Europe/Paris
PRODID:-//Audencia//NONSGML v1.0//EN
CALSCALE:GREGORIAN
BEGIN:VEVENT
SUMMARY:CLUB CULTURE & MANAGEMENT | Art caring : découvrez l'art qui soigne
DTSTART:20240612T190000
DTEND:20240612T210000
UID:1716
DTSTAMP:20260425T210207
LOCATION:TBC
DESCRIPTION:\nPour son dernier événement de l'année, le Club Culture et Management vous invite à découvrir et expérimenter différentes techniques d'art-thérapie : l'art qui soigne et qui fait du bien.\n\nModératrice :\n\n	Julia Strauss, Culture et Management / Présidente\n\n \n\nRéservez votre place dès maintenant !\n\nINFOS PRATIQUES :\n\n	Il commence à 19h, l'accueil se fait à partir de 18h30\n	Si vous bénéficiez d'un tarif spécial (tarif chômeur ou tarif étudiant à 15 €), vous devrez nous présenter un justificatif de moins de 3 mois\n\n\nAu plaisir de vous y retrouver,\nL'équipe du Club Culture & Management\n \n
BEGIN:VALARM
ACTION:DISPLAY
TRIGGER:-PT60M
DESCRIPTION:CLUB CULTURE & MANAGEMENT | Art caring : découvrez l'art qui soigne
END:VALARM
END:VEVENT
END:VCALENDAR