BEGIN:VCALENDAR
VERSION:2.0
X-WR-TIMEZONE:Europe/Paris
PRODID:-//Audencia//NONSGML v1.0//EN
CALSCALE:GREGORIAN
BEGIN:VEVENT
SUMMARY:CLUB CULTURE & MANAGEMENT | Management de la culture : comment gérer les passions ?
DTSTART:20240529T190000
DTEND:20240529T210000
UID:1715
DTSTAMP:20260425T210449
LOCATION:Beaux Arts et Cie (à confirmer)
DESCRIPTION:\nLa culture est un monde de passionnés. Cette passion est un levier formidable au sein d'une équipe mais peut aussi devenir un piège lorsqu’elle s’exprime de façon divergente. Individuellement, elle peut aussi aveugler jusqu’au burn-out. Comment garder un passionné motivé dans la durée ? Comment faire des passions de chacun un projet commun ? Comment utiliser la créativité ainsi générée ?\n\nCe débat, centré sur les spécificités du management de la culture, sera l’occasion d’aborder ses écueils, ses opportunités et ses récentes transformations avec lucidité.\n\nModératrice :\n\n	Aurélie Jourde, Culture et Management/Déléguée EM Lyon\n\n \n\nRéservez votre place dès maintenant !\n\n\nINFOS PRATIQUES :\n\n	Il commence à 19h, l'accueil se fait à partir de 18h30\n	Si vous bénéficiez d'un tarif spécial (tarif chômeur ou tarif étudiant à 15 €), vous devrez nous présenter un justificatif de moins de 3 mois\n\n\nAu plaisir de vous y retrouver,\nL'équipe du Club Culture & Management\n \n\n 
BEGIN:VALARM
ACTION:DISPLAY
TRIGGER:-PT60M
DESCRIPTION:CLUB CULTURE & MANAGEMENT | Management de la culture : comment gérer les passions ?
END:VALARM
END:VEVENT
END:VCALENDAR