BEGIN:VCALENDAR
VERSION:2.0
X-WR-TIMEZONE:Europe/Paris
PRODID:-//Audencia//NONSGML v1.0//EN
CALSCALE:GREGORIAN
BEGIN:VEVENT
SUMMARY:CLUB CULTURE & MANAGEMENT | Travailler dans la culture : tout un écosystème autour des grandes institutions
DTSTART:20240424T190000
DTEND:20240424T210000
UID:1714
DTSTAMP:20260425T210447
LOCATION:Beaux Arts et Cie (à confirmer)
DESCRIPTION:\nPrès de 150 000 entreprises interviennent dans les secteurs culturels marchands en 2022 pour un CA total d'environ 85 milliard d’euros. Lorsque nous évoquons les acteurs culturels, ce sont souvent, de prime abord, les grandes institutions qui nous viennent en tête. Cependant, il existe tout un tissu d’entreprises qui travaillent aux côtés de ces institutions pour le secteur culturel.\n\nDe taille variée - de la PME à la filiale d’un grand groupe en passant par les auto-entrepreneurs, ces sociétés proposent des produits ou des services qui sont indispensables au bon fonctionnement de la culture. Logiciel de billetterie, graphisme, assurance, transport, sécurité, réalisation, production ... : la liste des familles de métier dans la culture est longue et parfois méconnue.\n\nCes entreprises ont-elles été pensées pour le secteur culturel dès leur création ou bien se sont-elles spécialisées par opportunité ? Quelles sont les compétences qu’elles ont développées pour s’adapter aux contraintes de ce secteur au point de devenir des acteurs incontournables, gardiens de savoir-faire très précis ? Comment s’articule la relation entre ces entreprises et les grandes institutions ? Quels sont les avantages et les inconvénients à travailler dans ce type de structure ? Existe-t-il des passerelles entre ces entreprises et les grandes institutions pour évoluer professionnellement ?\n\nModératice :\n\n	Diane Soulié, Culture et Management/Responsable Communication\n\n \n\nRéservez votre place dès maintenant !\n\nINFOS PRATIQUES :\n\n	Il commence à 19h, l'accueil se fait à partir de 18h30\n	Si vous bénéficiez d'un tarif spécial (tarif chômeur ou tarif étudiant à 15 €), vous devrez nous présenter un justificatif de moins de 3 mois\n\n\nAu plaisir de vous y retrouver,\nL'équipe du Club Culture & Management\n\n\n
BEGIN:VALARM
ACTION:DISPLAY
TRIGGER:-PT60M
DESCRIPTION:CLUB CULTURE & MANAGEMENT | Travailler dans la culture : tout un écosystème autour des grandes institutions
END:VALARM
END:VEVENT
END:VCALENDAR