BEGIN:VCALENDAR
VERSION:2.0
X-WR-TIMEZONE:Europe/Paris
PRODID:-//Audencia//NONSGML v1.0//EN
CALSCALE:GREGORIAN
BEGIN:VEVENT
SUMMARY:CLUB CULTURE & MANAGEMENT | Francophonie, n°1 en 2100 ?
DTSTART:20240313T190000
DTEND:20240313T200000
UID:1713
DTSTAMP:20260425T210326
LOCATION:
DESCRIPTION:\nSi certains prévisionnistes attestent que le français sera la première langue parlée dans le monde en 2100, grâce à la poussée démographique de l’Afrique, on constate que, dans les souhaits d’apprentissage d’une langue pour chaque pays, à de rares exceptions, le premier choix est l’anglais. Bien que le français, pratiqué par près de 300 millions de personnes reste la cinquième langue parlée dans le monde, l’enjeu est considérable. La France, au premier plan concernée, est très active dans ce domaine et propose de nouvelles initiatives et actions, avec une ambition renouvelée. Le Québec, avec son projet de réforme de la loi 101, charte sur la langue française, s’impose déjà en force de proposition de cette réaction.\n\nLa culture francophone, fer de lance de notre diplomatie d’influence, saura-t-elle s’imposer dans un monde piloté par les GAMA* et les BATX* ? Les enjeux de découvrabilité de contenus francophones dans un univers contrôlé par les algorithmes sont d’une importance capitale pour l’ensemble des industries culturelles et créatives, mais également pour la valorisation des institutions culturelles.\n\nNos intervenants nous donneront les éclairages et l’analyse des actions en cours pour cette grande entreprise qu’est la francophonie.\n\n*Google, Amazon, Meta, Apple\n*Baidu, Alibaba, Tencent, and Xiaomi\n\nModérateur :\n\n\n	Frédéric REBET : le chiffre/Président, Responsable Musique c&m\n\n\n \n\n \n\nRéservez votre place dès maintenant !\n\n\n\nAu plaisir de vous retrouver en ligne,\nL'équipe du Club Culture & Management\n\n\n\n 
BEGIN:VALARM
ACTION:DISPLAY
TRIGGER:-PT60M
DESCRIPTION:CLUB CULTURE & MANAGEMENT | Francophonie, n°1 en 2100 ?
END:VALARM
END:VEVENT
END:VCALENDAR