BEGIN:VCALENDAR
VERSION:2.0
X-WR-TIMEZONE:Europe/Paris
PRODID:-//Audencia//NONSGML v1.0//EN
CALSCALE:GREGORIAN
BEGIN:VEVENT
SUMMARY:CHAPTER NANTES | Les Foulées du Numérique
DTSTART:20240922T083000
DTEND:20240922T120000
UID:1712
DTSTAMP:20260425T210406
LOCATION:Les Machines de l'Ile, bvd Léon Bureau, 44200 Nantes
DESCRIPTION:Rejoignez la 4e édition des Foulées du Numérique le Dimanche 22 Septembre à Nantes\naux côtés de son fondateur Thomas Mathieu (P2012) ! \n\n\n\n\nLes Foulées du Numérique, c'est quoi ?\n\nOn dit que Nantes marche sur deux jambes : celle de la culture, et celle de son bassin numérique, l’un des plus importants en France. Il était temps de de le faire savoir aux Nantais, et de créer un pont entre les Nantais et leur écosystème numérique : quoi de mieux qu’une jolie course au milieu des lieux phares du numérique Nantais pour ça ? Ainsi sont nées \nLes Foulées du Numérique ! \n\n\nUne course engagée contre le cancer\n\nÀ la génèse de cette course, au-delà de l’aspect numérique, un point commun chez les fondateurs de l’association des Foulées du Numérique : la volonté acharnée de se rendre utile dans la lutte contre le cancer. Ainsi, depuis ses débuts, la course parraine des associations et leur reverse 100% des bénéfices. \n\nUne boucle de 5 km ouverte à tous\n\nChacun trouvera son compte aux Foulées du Numérique, et c’est une ambition originelle ! Quel que soit votre niveau, coureur du Dimanche, expert du running ou même s’il doit s’agir de vos premiers 5 kilomètres de course : vous êtes tous les bienvenus. Pour nous aider à lutter contre le cancer, et faire vivre l’écosystème !\n\nUne course animée par les entreprises du numérique\n\nLes stands de ravitaillement qui viendront réconforter les coureurs avant, pendant et après leur course seront tenus par les partenaires de l’événement, des entreprises issues de l’écosystème numérique Nantais ! Tout sera prévu pour un moment convivial autour de la course !\n\n \n\nInformations pratiques \n\n? Dimanche 22 Septembre\n? Ile de Nantes\n? Grand départ à 9h30\n? Inscriptions (ouverture mi-avril 2024)
BEGIN:VALARM
ACTION:DISPLAY
TRIGGER:-PT60M
DESCRIPTION:CHAPTER NANTES | Les Foulées du Numérique
END:VALARM
END:VEVENT
END:VCALENDAR