BEGIN:VCALENDAR
VERSION:2.0
X-WR-TIMEZONE:Europe/Paris
PRODID:-//Audencia//NONSGML v1.0//EN
CALSCALE:GREGORIAN
BEGIN:VEVENT
SUMMARY:Club Entrepreneurs Nantes I Afterwork I Rencontre avec Antoine Cheul, Co-fondateur de Shopopop
DTSTART:20240221T183000
DTEND:20240221T200000
UID:1711
DTSTAMP:20260425T210610
LOCATION:Locaux de Shopopop  1 TER Mail Pablo Picasso, 44000 Nantes
DESCRIPTION:\n\nChers membres du Club Entrepreneur d'Audencia,\n\nNous sommes ravis de vous convier à notre deuxième afterwork qui aura lieu le 21 février 2024 dès 18h30 dans les locaux de Shopopop et en compagnie d'Antoine Cheul, co-fondateur de la plateforme ?\n\nShopopop, pour ceux qui ne le connaissent pas encore, est bien plus qu'une plateforme de livraison collaborative, c'est une révolution dans le domaine de la distribution. Cette entreprise a su réinventer les règles du jeu en permettant à chacun de devenir livreur lors de ses déplacements habituels, créant ainsi un réseau de proximité unique et efficace.\n\nLa présence d'Antoine Cheul lors de notre afterwork promet des échanges enrichissants. Son expérience, sa vision novatrice et sa passion pour l'entrepreneuriat seront une source d'inspiration pour chacun d'entre nous.\n\nNous vous invitons à nous rejoindre pour cette soirée qui sera l'occasion parfaite de rencontrer des esprits créatifs, d'échanger des idées inspirantes et de tisser des liens au sein de notre communauté entrepreneuriale.\n\nNous vous attendons nombreux pour cet afterwork !\n\n\nSoraya & Amélie \n\nPS : Retrouvez toute l'actualité du club sur WhatsApp : https://chat.whatsapp.com/Lmosdvxz8An9HBq4eiIv5m\n\n \n\nFavorisez les transports doux\n\n? Arrêt Berlin  (Bus C3 et 5)\n? Stations Bicloo : Picasso\n? Parking : Bd de Berlin ( Faible taux de réussite) 
BEGIN:VALARM
ACTION:DISPLAY
TRIGGER:-PT60M
DESCRIPTION:Club Entrepreneurs Nantes I Afterwork I Rencontre avec Antoine Cheul, Co-fondateur de Shopopop
END:VALARM
END:VEVENT
END:VCALENDAR