BEGIN:VCALENDAR
VERSION:2.0
X-WR-TIMEZONE:Europe/Paris
PRODID:-//Audencia//NONSGML v1.0//EN
CALSCALE:GREGORIAN
BEGIN:VEVENT
SUMMARY:CHAPTER NANTES | Galette des rois
DTSTART:20240130T190000
DTEND:20240130T230000
UID:1709
DTSTAMP:20260425T205946
LOCATION:Le Bras de Fer, 20 Bd de la Prairie au Duc, 44200 Nantes
DESCRIPTION:?\n\nLa traditionnelle galette des rois des Alumni nantais, c'est mardi 30 janvier à partir de 19h \nau Bras de Fer (20 bd de la Prairie au Duc) !\n\n?\nSpoiler : on a une surprise qui va vous faire\nbien rire à partir de 20h ?\n\n? Nous fêterons également le premier événement du club Entrepreneurs Nantes\nqui organise une visite au sein des locaux de Guest Suite juste avant : si vous souhaitez en être, c'est par ici ?\n\n?\n\n? Et bonne année 2024 !!!! ?\n\n \n\n? 5 (République ou Gare de l'Etat), 26 (République)\n? 2 & 3 (Vincent Gâche) + 5\n? Parking Les Machines de Nantes (attention, haute fréquentation)\n\nContact : spontroue@audencia.com
BEGIN:VALARM
ACTION:DISPLAY
TRIGGER:-PT60M
DESCRIPTION:CHAPTER NANTES | Galette des rois
END:VALARM
END:VEVENT
END:VCALENDAR