BEGIN:VCALENDAR
VERSION:2.0
X-WR-TIMEZONE:Europe/Paris
PRODID:-//Audencia//NONSGML v1.0//EN
CALSCALE:GREGORIAN
BEGIN:VEVENT
SUMMARY:WEBINAR | Build Your Professional Network in 20 Minutes a Day
DTSTART:20240208T140000
DTEND:20240208T150000
UID:1708
DTSTAMP:20260425T210050
LOCATION:
DESCRIPTION:DATE: Thursday 8 February 2024\nTIME: 14:00 to 15:00 Paris time\n\nMost of us understand that we need a diverse professional network to prosper in our careers.\n\nToo often, and particularly since Covid, we don’t act on this knowledge.\n\nNetworking is an important but not urgent business that never makes it to the top of the “to-do” list.\n\nThis lack of investment really hurts careers. In this webinar, Michael Melcher will spell out the networking habits (based on small but consistent investments) that will transform your professional network and your career.\n\nWe will discuss:\n\n\n	Why you should make small but regular attempts to reach out to existing contacts and strangers\n	Why it is OK to focus on the activities and relationships you enjoy\n	Why networking experiments are so valuable and how you can get started\n	Why you should talk more about your failures and setbacks\n	How to achieve great results in 20m a day\n	Why some industries are less open and how you can adapt your strategy.\n\n\n REGISTRATION\nWe have 200 free tickets for Audencia's alumni and students\n(use code "AUD-student" if the ticket does not show)\n\n\n\n\nAbout the speaker\nMichael Melcher is an internationally known executive coach and leadership expert. He is the author of three books, including Your Invisible Network: How to Create, Maintain, and Leverage the Relationships That Will Transform Your Career.\n\n\nAUDENCIA's WEBINAR LIBRARY\nUnlimited access for Audencia students and alumni\n \nWe are delighted to offer all Audencia students and alumni access to a library of careers webinars featuring world-class management thinkers like Steve Dalton, Dorie Clark and Daniel Porot.\n\nAll Audencia alumni and students now have unlimited access to the portal which includes:\n\n	Advice on, job-hunting and interviewing, international and portfolio careers and how to be a better boss\n	Videos optimised for mobiles and tablets\n	Unlimited – free online access to all Audencia students and alumni\n\n\nRegister for your individual account here
BEGIN:VALARM
ACTION:DISPLAY
TRIGGER:-PT60M
DESCRIPTION:WEBINAR | Build Your Professional Network in 20 Minutes a Day
END:VALARM
END:VEVENT
END:VCALENDAR