BEGIN:VCALENDAR
VERSION:2.0
X-WR-TIMEZONE:Europe/Paris
PRODID:-//Audencia//NONSGML v1.0//EN
CALSCALE:GREGORIAN
BEGIN:VEVENT
SUMMARY:CLUB AUDENCIA POUR ELLES I Pot de (Re)Lance ?
DTSTART:20240208T190000
DTEND:20240208T210000
UID:1707
DTSTAMP:20260425T210003
LOCATION:AveK Bar à cockatils 21 rue Saint-Sauveur 75002 Paris
DESCRIPTION:\n\nChère communauté Audencia pour Elles,\nLe club est de retour et vous invite à son premier évènement de l’année !\n\nNous vous donnons rendez-vous le 08 février 2024 dès 19h00 à  AveK un bar à cocktails cosy ouvert par Matthieu Delaunay, diplômé d’Audencia.\nL’évènement sera l’occasion de se retrouver pour certaines, de se rencontrer pour d’autres mais aussi et surtout de relancer une belle dynamique pour le club. Nous pourrons réfléchir ensemble aux prochains sujets que vous souhaitez voir abordés au sein d’Audencia pour Elles.\n\nNous espérons vous compter parmi nous pour cet évènement du club ? 
BEGIN:VALARM
ACTION:DISPLAY
TRIGGER:-PT60M
DESCRIPTION:CLUB AUDENCIA POUR ELLES I Pot de (Re)Lance ?
END:VALARM
END:VEVENT
END:VCALENDAR