BEGIN:VCALENDAR
VERSION:2.0
X-WR-TIMEZONE:Europe/Paris
PRODID:-//Audencia//NONSGML v1.0//EN
CALSCALE:GREGORIAN
BEGIN:VEVENT
SUMMARY:CLUB MARKETING & DIGITAL | La permaculture client
DTSTART:20240425T191500
DTEND:20240425T220000
UID:1706
DTSTAMP:20260425T210028
LOCATION:TBC
DESCRIPTION:Le Club Marketing & Digital vous invite à sa prochaine conférence sur la thématique "La permaculture client" :\n\n	le jeudi 25 avril\n	à 19h15\n	Le lieu reste à définir\n\nMettre les clients au centre des attentions et le soin qu’on leur porte peut amener les entreprises à se transformer en profondeur. Prise de conscience, empathie, écoute et créativité envers eux sèment de nouveaux standards qui infusent ensuite l’organisation. \n \nA ce sujet, la permaculture n’a de cesse de nous inspirer. S'inspirer de son fonctionnement fait sens dans la relation client et plus largement dans le management des organisations.\nCela nous permet de revenir à des règles de bon sens, simples, concrètes et tangibles.\n \nFlorence Bouchot, Thierry Spencer et Camille Giraudo nous partageront leur expertise et leur passion pour la culture et l’expérience client. \n \nIls nous montreront toute la richesse des applications possibles des règles simples issues de la permaculture à travers des exemples concrets.\n\nIl s’agit de s’inspirer, dans ses pratiques de management, du fonctionnement essentiel de la nature :\n?? Observer son écosystème professionnel et s'y adapter. Connaître et comprendre ses collaborateurs, managers, clients, fournisseurs. Décoder leurs attentes spécifiques pour mieux y répondre.\n\n?? Partager la raison d'être de l'organisation et faire comprendre à chacun son rôle essentiel : "pourquoi travaillons ensemble et que cherchons à accomplir ?" afin d'être aligné et d'œuvrer collectivement à la réalisation du projet de l'organisation.\n\n?? Décloisonner, afin de maximiser les échanges et les relations aussi bien à l'intérieur qu'à l'extérieur de l'entreprise. Travailler ensemble pour trouver les meilleures solutions, celles qui feront la différence pour les clients mais aussi pour la planète.\n \nQuelques soient vos fonctions dans l’entreprise, retrouvez-nous pour une conférence et des échanges particulièrement inspirants, avec ces trois conférenciers d’exception :\n \n\n	Florence Bouchot, Administratrice de l’AMARC et créatrice du concept de « Permaculture Clients »\n	Camille Giraudo (GE 06) Fondateur de l’agence Lucilius\n	Thierry Spencer, co-fondateur de KPAM Next, culture client et expérience client, conférencier et créateur du blog de référence "Sens du client"\n\nConférence animée par Brigitte Neveu-Dérotrie (GE 85)\n​\nCette conférence sera suivie d'un cocktail apéritif qui permettra de prolonger les discussions avec les intervenants et de résauter.\n\n?? Cette conférence est aussi ouvert aux étudiants. Inscriptions auprès de Nushad Merchant ? nushad.merchant@audencia.com.\n\n \nInscriptions obligatoires*\n\n\n\nQuestion ? : nushad.merchant@audencia.com\n\n\n* Pas de remboursement possible. Toute inscription est définitive !\n \n\nA propos :\n\n\nBrigitte Neveu-Dérotrie (GE 85) anime le Club Marketing & Digital. Elle est fondatrice de Yélen communication, consultante et formatrice en marketing et communication digitale B2B.
BEGIN:VALARM
ACTION:DISPLAY
TRIGGER:-PT60M
DESCRIPTION:CLUB MARKETING & DIGITAL | La permaculture client
END:VALARM
END:VEVENT
END:VCALENDAR