BEGIN:VCALENDAR
VERSION:2.0
X-WR-TIMEZONE:Europe/Paris
PRODID:-//Audencia//NONSGML v1.0//EN
CALSCALE:GREGORIAN
BEGIN:VEVENT
SUMMARY:CLUB CONSULTING | Afterwork
DTSTART:20240207T191500
DTEND:20240207T220000
UID:1705
DTSTAMP:20260425T210326
LOCATION:Audencia Paris-Saint Ouen 4 Passage Colisée 93400 Saint Ouen sur Seine
DESCRIPTION:Le Club Consulting vous invite à son prochain afterwork, sous forme d’une table ronde suivi d’un cocktail apéritif, le mercredi 7 février à 19h15 sur le campus Paris-Saint Ouen.\n\nÊtre consultant dans un cabinet ou se lancer en freelance ? Des options qu’un consultant a déjà posées sur la table et parfois à plusieurs reprises. L’appât du gain ? L’envie d’indépendance ? Le confort et la sécurité ?\n\nVenez débattre avec des Alumni spécialement présents pour l’occasion pour comprendre les raisons de leurs choix, obtenir des conseils pratiques ou simplement développer votre réseau dans le conseil.\n\n?? Cet afterwork est aussi ouvert aux étudiants. Inscriptions auprès de Nushad Merchant ? nushad.merchant@audencia.com.\n\n\nInscriptions obligatoires*\n\n\n\nQuestions ? : nushad.merchant@audencia.com\n \n\n* Pas de remboursement possible. Toute inscription est définitive.
BEGIN:VALARM
ACTION:DISPLAY
TRIGGER:-PT60M
DESCRIPTION:CLUB CONSULTING | Afterwork
END:VALARM
END:VEVENT
END:VCALENDAR