BEGIN:VCALENDAR
VERSION:2.0
X-WR-TIMEZONE:Europe/Paris
PRODID:-//Audencia//NONSGML v1.0//EN
CALSCALE:GREGORIAN
BEGIN:VEVENT
SUMMARY:CHAPTER PARIS | Galette des Rois
DTSTART:20240117T191500
DTEND:20240117T213000
UID:1704
DTSTAMP:20260425T210143
LOCATION:Audencia Paris-Saint Ouen 4 Passage Colisée 93400 Saint Ouen sur Seine
DESCRIPTION:Nous avons le plaisir de vous inviter pour tirer les rois. Les galettes seront prêtes, avec frangipane, fèves, et couronnes.\n\nVenez partager ce moment traditionnel et surtout de la joie et de la bonne humeur le mercredi 17 janvier à 19h15 sur le campus Paris-Saint Ouen.\n\nAu plaisir de vous y retrouver.\n\n**************\n\nWe are pleased to invite you to crown some kings. The pancakes will be ready, with frangipane, beans, and crowns.\n\nCome and share this traditional moment and especially the joy and good humour on Wednesday, January 17 at 7.15pm on the Paris-Saint Ouen campus.\n\nWe look forward to seeing you there.\n \nInscriptions obligatoires / Compulsory registration*\n\n\n\n\nQuestions ? : nushad.merchant@audencia.com\n \n\n\n* Pas de remboursement possible. Toute inscription est définitive !\n   No refunds possible. All registrations are final!
BEGIN:VALARM
ACTION:DISPLAY
TRIGGER:-PT60M
DESCRIPTION:CHAPTER PARIS | Galette des Rois
END:VALARM
END:VEVENT
END:VCALENDAR