BEGIN:VCALENDAR
VERSION:2.0
X-WR-TIMEZONE:Europe/Paris
PRODID:-//Audencia//NONSGML v1.0//EN
CALSCALE:GREGORIAN
BEGIN:VEVENT
SUMMARY:2023 Year-End Party in Shenzhen
DTSTART:20231231T123000
DTEND:20231231T173000
UID:1703
DTSTAMP:20260425T210121
LOCATION:Crowne Plaza Shenzhen Nanshan, No 9819 Shenzhen Boulevard, Shenzhen, Guangdong, China
DESCRIPTION:\n \n\nQuestions? tcliu@audencia.com
BEGIN:VALARM
ACTION:DISPLAY
TRIGGER:-PT60M
DESCRIPTION:2023 Year-End Party in Shenzhen
END:VALARM
END:VEVENT
END:VCALENDAR