BEGIN:VCALENDAR
VERSION:2.0
X-WR-TIMEZONE:Europe/Paris
PRODID:-//Audencia//NONSGML v1.0//EN
CALSCALE:GREGORIAN
BEGIN:VEVENT
SUMMARY:CLUB CULTURE & MANAGEMENT | Capitale européenne de la Culture : avant, pendant, après
DTSTART:20240124T190000
DTEND:20240124T210000
UID:1702
DTSTAMP:20260425T205849
LOCATION:Campus EM Lyon de Paris 15 bd Diderot Paris 12e
DESCRIPTION:\nChers adhérents, chers amis,\n\nLe verdict est tombé hier au Ministère de la Culture : après Paris en 1989, Avignon en 2000, Lille en 2004 et Marseille-Provence en 2013, c'est Bourges qui sera Capitale européenne de la Culture en 2028 !\n\nUne Capitale européenne de la culture : qu'est-ce que c'est ? Comment les villes se mobilisent-elles pendant les 6 années que durent leurs candidatures ? Que se passe-t-il pendant l'année "capitale" ? Quelles sont les retombées à plus long terme sur le territoire ?\n\nLe débat interrogera la vocation, les modalités, et les différents acteurs de cette initiative, qui a désigné plus de 65 lauréats depuis sa création il y a 40 ans.\n\nNos intervenants vous partageront leurs expériences :\n\n	Anne Tallineau, Membre du jury du concours en vue de la désignation d'une « Capitale européenne de la culture » pour 2028\n	Jean-François Chougnet, Directeur général de l'association Lille3000, ex-président du Mucem, ex-Directeur de Marseille Provence 2013\n\n\nModératrice :\n\n\n	Laetitia Pouilly, Culture et Management/Déléguée HEC\n\n \n\nRéservez votre place dès maintenant !\n\n \nINFOS PRATIQUES :\n\n	Le débat a lieu sur le Campus EM Lyon de Paris, au15 bd Diderot, Paris 12e\n	Il commence à 19h, l'accueil se fait à partir de 18h30\n	Si vous bénéficiez d'un tarif spécial (tarif chômeur ou tarif étudiant à 15 €), vous devrez nous présenter un justificatif de moins de 3 mois\n\n\nAu plaisir de vous retrouver en 2024,\n\nL'équipe du Club Culture & Management\n\n\n
BEGIN:VALARM
ACTION:DISPLAY
TRIGGER:-PT60M
DESCRIPTION:CLUB CULTURE & MANAGEMENT | Capitale européenne de la Culture : avant, pendant, après
END:VALARM
END:VEVENT
END:VCALENDAR