BEGIN:VCALENDAR
VERSION:2.0
X-WR-TIMEZONE:Europe/Paris
PRODID:-//Audencia//NONSGML v1.0//EN
CALSCALE:GREGORIAN
BEGIN:VEVENT
SUMMARY:CHAPTER MADRID : Afterwork
DTSTART:20231220T193000
DTEND:20231220T220000
UID:1701
DTSTAMP:20260425T210022
LOCATION:CaféOlé! Clubworking  Calle de Fernández de los Ríos, 3,  28015 Madrid
DESCRIPTION:\nChapter Madrid will be hosting its "end-of-the-year" afterwork on Wednesday 20 December 7.30pm onwards at CaféOlé! Clubworking, Calle de Fernández de los Ríos, 3, 28015 Madrid.\n\nPS: If you wish to join the Chapters' WhatsApp group, drop a line to nushad.merchant@audencia.com\n\n\n\nQuestion? : nushad.merchant@audencia.com\n\n 
BEGIN:VALARM
ACTION:DISPLAY
TRIGGER:-PT60M
DESCRIPTION:CHAPTER MADRID : Afterwork
END:VALARM
END:VEVENT
END:VCALENDAR