BEGIN:VCALENDAR
VERSION:2.0
X-WR-TIMEZONE:Europe/Paris
PRODID:-//Audencia//NONSGML v1.0//EN
CALSCALE:GREGORIAN
BEGIN:VEVENT
SUMMARY:CHAPTER LONDON |  Afterwork
DTSTART:20240118T200000
DTEND:20240118T220000
UID:1700
DTSTAMP:20260425T210315
LOCATION:The Churchill Arms, Kensington 119 Kensington Church St,  London W8 7LN
DESCRIPTION:Matthieu Bonnamy & Cici Liu from the Audencia Alumni team will be in London and would be delighted to meet up with alumni there!\n\nAlumni are invited to join for an informal afterwork on:\n\n\n	Date: Thursday 18 January\n	Time: 7pm-9pm\n	At: The Churchill Arms, Kensington\n\n\nThis will be a great opportunity to catch up with all the latest news of Audencia and share your stories with them about your home city of London!\n \n\nCompulsory Registration!\n\n\n\nQuestions?: nushad.merchant@audencia.com\n \n\n \n\n 
BEGIN:VALARM
ACTION:DISPLAY
TRIGGER:-PT60M
DESCRIPTION:CHAPTER LONDON |  Afterwork
END:VALARM
END:VEVENT
END:VCALENDAR