BEGIN:VCALENDAR
VERSION:2.0
X-WR-TIMEZONE:Europe/Paris
PRODID:-//Audencia//NONSGML v1.0//EN
CALSCALE:GREGORIAN
BEGIN:VEVENT
SUMMARY:Join the international recruitment panel for the Grande Ecole Programme in CHENNAI, India
DTSTART:20180207T093000
DTEND:20180207T120000
UID:170
DTSTAMP:20260425T205814
LOCATION:IFCCI, Old 27, New 66, III Street, Abhiramapuram,  Chennai - 600018, India
DESCRIPTION:Do you want to help find the next generation of successful students?\n\nIf you graduated from Audencia (all programmes) 3 or more years ago, join panel members from Audencia, emlyon, ESCP Europe, HEC and SKEMA in Chennai on 7th February at\n\n \nIFCCI, Old 27, New 66, III Street, Abhiramapuram, \nChennai - 600018, India\n\n\n\n\nTogether you will:\n\n	Grow your network\n	Share your experience of studying in France with aspiring students\n	Participate in the promotion of your business school abroad\n	Identify the future talent you might you want to recruit\n\n \nAnd on the day of the interviews, you will:\n\n	Meet at a pre-arranged location in your city or in your office if you prefer\n	Meet for 30 minutes with 4 to 5 different candidates, talk about their project, your experiences with their future school, and fill in an evaluation grid.\n	Have fun!  \n\n \n\nFor more information or to register\nSend an email to: sai@cci-paris-idf.fr
BEGIN:VALARM
ACTION:DISPLAY
TRIGGER:-PT60M
DESCRIPTION:Join the international recruitment panel for the Grande Ecole Programme in CHENNAI, India
END:VALARM
END:VEVENT
END:VCALENDAR