BEGIN:VCALENDAR
VERSION:2.0
X-WR-TIMEZONE:Europe/Paris
PRODID:-//Audencia//NONSGML v1.0//EN
CALSCALE:GREGORIAN
BEGIN:VEVENT
SUMMARY:Afterwork in Bangkok, Thailand
DTSTART:20170227T190000
DTEND:20170227T203000
UID:17
DTSTAMP:20260425T205817
LOCATION:Bangkok Marriott Hotel Sukhumvit 2 Sukhumvit Soi 57, Klongtan Nua, Wattana Bangkok
DESCRIPTION:On the occasion of Professor Bertrand Venard's visit to Bangkok, come and meet him for an afterwork reunion on Monday 27 February from 19.00 at\n\nBangkok Marriott Hotel Sukhumvit\n2 Sukhumvit Soi 57, Klongtan Nua, Wattana\nBangkok\n \nMeet in the lobby at 19.00!\n\nThis will be a great opportunity for you to catch up with the latest news from Audencia!
BEGIN:VALARM
ACTION:DISPLAY
TRIGGER:-PT60M
DESCRIPTION:Afterwork in Bangkok, Thailand
END:VALARM
END:VEVENT
END:VCALENDAR