BEGIN:VCALENDAR
VERSION:2.0
X-WR-TIMEZONE:Europe/Paris
PRODID:-//Audencia//NONSGML v1.0//EN
CALSCALE:GREGORIAN
BEGIN:VEVENT
SUMMARY:CLUB ACTIVITES CULTURELLES | Visite guidée - Amour et Séduction sous l’Ancien Régime
DTSTART:20240316T110000
DTEND:20240316T123000
UID:1699
DTSTAMP:20260425T210007
LOCATION:4 rue François Miron 75004 Paris
DESCRIPTION:Le Club Activités Culturelles organise une visite guidée "Amour et Séduction sous l’Ancien Régime​" le samedi 16 mars à 11h avec Laurane Bourgoint (GE 2011), entrepreneuse culturelle et fondatrice de « Les Dessous de Versailles ».\n \n\n"Je vous propose une visite guidée insolite du Marais de l’Ancien Régime. Ludique et pédagogique, ma visite vous transportera dans les coulisses de la cour de Versailles sans quitter Paris et retracera dans les grandes lignes la vie affective des Bourbons : de Louis XIII à Louis XVI, d’Anne d’Autriche à Marie-Antoinette.\n \n\n\n	Comment s’est passée la première nuit de Louis XIV ?\n	Pourquoi le Marquis de Montespan était-il le cocu magnifique ?\n	Comment draguer avec le langage de la l’éventail ?\n	Pourquoi Louis XVI et Marie-Antoinette ont mis 7 ans pour consommer leur union \n\n\nTout en déambulant dans le quartier, vous participerez à des jeux et autres quiz. Des bonbons et des cadeaux sont à gagner pour les victorieux !\nIl n'y aura que du croustillant ! C'est un serment et vous pourrez me provoquer en duel si je mens."\n\n\n\nPlaces limitées, inscriptions obligatoires !\n\n\n\nQuestions : nushad.merchant@audencia.com
BEGIN:VALARM
ACTION:DISPLAY
TRIGGER:-PT60M
DESCRIPTION:CLUB ACTIVITES CULTURELLES | Visite guidée - Amour et Séduction sous l’Ancien Régime
END:VALARM
END:VEVENT
END:VCALENDAR