BEGIN:VCALENDAR
VERSION:2.0
X-WR-TIMEZONE:Europe/Paris
PRODID:-//Audencia//NONSGML v1.0//EN
CALSCALE:GREGORIAN
BEGIN:VEVENT
SUMMARY:CCI France Chine Event: [BREAKFAST TALK] - Empower her: how to empower women in the workplace?
DTSTART:20231220T020000
DTEND:20231220T030000
UID:1698
DTSTAMP:20260425T210048
LOCATION:Room 802. 8/F, Leatop Plaza, 32 Zhujiang East Road, Zhujiang New Town, Tianhe District, Guangzhou, China  广州市天河区珠江新城珠江东路32号利通广场08层02单元
DESCRIPTION:\n \n\nBreakfast time! \n\n \n\nDear member,\n\n \n\nCCI FRANCE CHINE is pleased to invite you to the next session of Breakfast Talk! Breakfast Talk is a new platform to exchange about topics that matter to our professional development and share ideas with others.\n\n \n\nCome to discuss with Emilie CHUNG, Business Development Manager Greater China from Great Place To Work about how to empower women in the workplace. \n\n \n\nIn this presentation, we will be sharing some best practices and key steps that will allow companies to empower their female teammates, as well as recognise and advance gender equality. \n\n\n#Women'sClub #HRWorkingGroup \n\n \n\nTopic:   Empower her: how to empower women in the workplace?\n\nEmilie CHUNG | Great Place To Work\n\n \n\n\n\n \n\nDate:\n\nWednesday 20 December 2023\n\nTime:\n\n9:00 AM - 10:00 AM\n\nLanguage:\n\nEnglish\n\nVenue:\n\nCCI FRANCE CHINE GUANGZHOU\n\nRoom 802. 8/F, Leatop Plaza, 32 Zhujiang East Road, Zhujiang New Town,\n\nTianhe District, Guangzhou, 510623, P.R.C.\n\n广州市天河区珠江新城珠江东路32号利通广场08层02单元 \n\n邮政编码:510623\n\n
BEGIN:VALARM
ACTION:DISPLAY
TRIGGER:-PT60M
DESCRIPTION:CCI France Chine Event: [BREAKFAST TALK] - Empower her: how to empower women in the workplace?
END:VALARM
END:VEVENT
END:VCALENDAR