BEGIN:VCALENDAR
VERSION:2.0
X-WR-TIMEZONE:Europe/Paris
PRODID:-//Audencia//NONSGML v1.0//EN
CALSCALE:GREGORIAN
BEGIN:VEVENT
SUMMARY:CCI France Chine Christmas Cocktail in Beijing
DTSTART:20231214T113000
DTEND:20231214T140000
UID:1697
DTSTAMP:20260425T205950
LOCATION:CCI FRANCE CHINE Beijing Office  Suites 201-222, 2F, Building 81, No. 4 Gongti North Road, Beijing  北京市朝阳区工体北路4号院81号楼二层201-222室
DESCRIPTION:\n\nDear Members,\n\nJoin us to celebrate the holiday season with the Sino-French business community, in the presence of Mrs. Caroline Penard, General Manager of CCI FRANCE CHINE  and esteemed members of the CCI FRANCE CHINE Board.\n\nAn exquisite "Buffet de Noël" will be provided, featuring foie gras, smoked salmon, cheeses, and other delicacies. Champagne and delicious wines will be served.\n\n \n\nOur Partners\n\n \n\nDate : \n\nThursday 14 December \n\n \n\nTime :\n\nFrom 6:30 PM to 9 PM\n\n \n\nAddress :\n\nCCI FRANCE CHINE Beijing Office\n\nSuites 201-222, 2F, Building 81, No. 4 Gongti North Road, Beijing\n\n北京市朝阳区工体北路4号院81号楼二层201-222室\n\n \n\nStrictly reserved to CCI FRANCE CHINE members \n\n \n\nRegistration: \n\nScan the following QR code or click here\n\n
BEGIN:VALARM
ACTION:DISPLAY
TRIGGER:-PT60M
DESCRIPTION:CCI France Chine Christmas Cocktail in Beijing
END:VALARM
END:VEVENT
END:VCALENDAR