BEGIN:VCALENDAR
VERSION:2.0
X-WR-TIMEZONE:Europe/Paris
PRODID:-//Audencia//NONSGML v1.0//EN
CALSCALE:GREGORIAN
BEGIN:VEVENT
SUMMARY:CHAPTER LE MANS | Soirée Inter-Alumni avec le témoignage d'un Colonel de la gendarmerie
DTSTART:20240125T190000
DTEND:20240125T220000
UID:1696
DTSTAMP:20260425T210149
LOCATION:21, boulevard Paixhans Le Mans
DESCRIPTION:\nINVITATION EXCEPTIONNELLE\n\nSoirée interalumni avec la gendarmerie\n\norganisée par les Alumni HEC Le Mans\n \n \nNous serons reçus par le Colonel de la Follye de Joux, Commandant du groupement de gendarmerie de la Sarthe.\n \nRendez-vous le 25 janvier à 19h précises\nInscription via ce lien :\nhttps://cutt.ly/uwSwY3JO\n\nClôture inscriptions le 15 janvier\n(pas de délai supplémentaire possible)\n \n\nDéroulé de la soirée :\n\n\n	Présentation de la mission et de l'organisation du groupement ; \n	Visite du centre opérationnel où parviennent les appels ;\n	Cocktail dînatoire.\n\n\n\nInformations diverses :\n\n\n	Participation de 25€ demandée à l'inscription. Les conjoints sont les bienvenus.\n	Attention : pas de remboursement possible. Toute inscription est définitive !\n	Pour des raisons de sécurité, il vous sera demandé vos coordonnées pour que des vérifications soient faites par la gendarmerie. Je vous contacterai probablement individuellement pour connaître votre date de naissance.\n	Contact pour toute question : apecaud@rhetorike.fr\n\n\n\nA bientôt,\nAurélie PECAUD (SCOM 07)\nAmbassadrice Chapter Le Mans
BEGIN:VALARM
ACTION:DISPLAY
TRIGGER:-PT60M
DESCRIPTION:CHAPTER LE MANS | Soirée Inter-Alumni avec le témoignage d'un Colonel de la gendarmerie
END:VALARM
END:VEVENT
END:VCALENDAR