BEGIN:VCALENDAR
VERSION:2.0
X-WR-TIMEZONE:Europe/Paris
PRODID:-//Audencia//NONSGML v1.0//EN
CALSCALE:GREGORIAN
BEGIN:VEVENT
SUMMARY:Christmas Dinner in Shanghai
DTSTART:20231217T110000
DTEND:20231217T140000
UID:1695
DTSTAMP:20260425T210027
LOCATION:Chez Jojo, No. 333-337 Yongjia Road, Shanghai, China
DESCRIPTION:
BEGIN:VALARM
ACTION:DISPLAY
TRIGGER:-PT60M
DESCRIPTION:Christmas Dinner in Shanghai
END:VALARM
END:VEVENT
END:VCALENDAR