BEGIN:VCALENDAR
VERSION:2.0
X-WR-TIMEZONE:Europe/Paris
PRODID:-//Audencia//NONSGML v1.0//EN
CALSCALE:GREGORIAN
BEGIN:VEVENT
SUMMARY:CLUB ENTREPRENEURS NANTES I Le Before I Rencontre avec Thomas Matthieu, Fondateur de Guest Suite
DTSTART:20240130T183000
DTEND:20240130T200000
UID:1694
DTSTAMP:20260425T210209
LOCATION:Guest Suite,  10 rue magdeleine, 44000 Nantes
DESCRIPTION:\n\nChers membres du Club Entrepreneurs Nantes d'Audencia, \n\nNous avons le plaisir de vous convier au tout premier Afterwork du club entrepreneurs Nantes le 30 janvier 2024 à partir de 18h30. \n\nLors de cet événement, nous aurons l'honneur d'être accueillis par Thomas Mathieu, entrepreneur passionné et alumni d'Audencia, qui a fondé Guest Suite, LA plateforme spécialisée dans la collecte et la valorisation des avis clients.   \n\nThomas partagera avec nous son parcours entrepreneurial jalonné de succès avec Guest Suite : Son rôle de chef d'entreprise / ses challenges / son quotidien / Son équilibre vie pro - vie perso / Ses plus gros défis .... \n\nAu-delà de cette belle aventure il présentera également un autre de ses projets (et pas des moindres) : les Foulées du Numérique, une course fédérant l’écosystème Nantais pour défendre la lutte contre le cancer.  \n\nUn parcours inspirant que nous avons hâte de vous partager ! \n\nCe sera l'occasion de découvrir les coulisses d'une réussite entrepreneuriale et de bénéficier des précieux conseils de Thomas, le tout dans des locaux absolument incroyables ! \n\nNous espérons vous compter parmi nous pour ce premier évènement du club ? \n\nNous pourrons également rejoindre le Chapter Nantes après notre afterwork pour poursuivre la soirée avec la traditionnelle galette des rois des Alumni nantais (et leur surprise ??).\n \n\nSoraya & Amélie \n\nPS : Retrouvez toute l'actualité du club sur WhatsApp : https://chat.whatsapp.com/Lmosdvxz8An9HBq4eiIv5m\n\n\nFavorisez les transports doux\n\n? Arrêt Quai des Antilles ( Busway C5)\n? Stations Bicloo : Prairie au Duc\n? Parking : Machines ou Bd de la Prairie au Duc ( Faible taux de réussite) 
BEGIN:VALARM
ACTION:DISPLAY
TRIGGER:-PT60M
DESCRIPTION:CLUB ENTREPRENEURS NANTES I Le Before I Rencontre avec Thomas Matthieu, Fondateur de Guest Suite
END:VALARM
END:VEVENT
END:VCALENDAR