BEGIN:VCALENDAR
VERSION:2.0
X-WR-TIMEZONE:Europe/Paris
PRODID:-//Audencia//NONSGML v1.0//EN
CALSCALE:GREGORIAN
BEGIN:VEVENT
SUMMARY:CCI France Chine Christmas Cocktail in Shanghai
DTSTART:20231209T100000
DTEND:20231209T140000
UID:1692
DTSTAMP:20260425T210148
LOCATION:Sofitel Shanghai Hongqiao, No. 666 Taihong Road, Minhang District, Shanghai, China
DESCRIPTION:\n\n\n	\n		\n			\n			\n				\n					\n						\n						\n							\n								\n									\n									\n										\n											\n												\n												\n													\n														\n															\n															\n																\n																	\n																		\n																		 \n\n																		\n																			\n																				\n																					\n																					\n																						\n																							\n																								Dear Members,\n																								 \n																								Join us to celebrate the holiday season with the Sino-French business community, in the presence of Mr. Christophe Lauras, President of CCI FRANCE CHINE, Mr. Joan Valadou, Consul general of France in Shanghai and CCI FRANCE CHINE's Board Members.\n																								  \n																								Sofitel Hongqiao will prepare a wonderful “Buffet de Noël” with foie gras, smoked salmon, French Cheese, terrines and other famous French specialties.\n																							\n																						\n																					\n																					\n																				\n																			\n																		\n\n																		 \n																		\n																	\n																\n															\n															\n														\n													\n												\n												\n											\n										\n									\n									\n								\n							\n						\n						\n					\n				\n			\n			\n		\n		\n			\n			\n				\n					\n						\n						\n							\n								\n									\n									\n										\n											\n												\n												\n													\n														\n															\n															\n																\n																	\n																		\n																		\n																			\n																				\n																					\n																					\n																						\n																							\n																								\n																							\n																						\n																					\n\n																					 \n																					\n																				\n																			\n																		\n\n																		\n																			\n																				\n																					\n																					\n																						\n																							\n																								\n																							\n																						\n																					\n																					\n																				\n																			\n																		\n																		 \n\n																		\n																			\n																				\n																					\n																					\n																						\n																							\n																								\n																							\n																						\n																					\n\n																					 \n																					\n																				\n																			\n																		\n																		\n																	\n																\n															\n															\n															\n															\n																\n																	\n																		\n																		\n																			\n																				\n																					\n																					\n																						\n																							\n																								\n																							\n																						\n																					\n\n																					 \n																					\n																				\n																			\n																		\n\n																		\n																			\n																				\n																					\n																					\n																						\n																							\n																								\n																							\n																						\n																					\n																					\n																				\n																			\n																		\n																		 \n\n																		\n																			\n																				\n																					\n																					\n																						\n																							\n																								\n																							\n																						\n																					\n\n																					 \n																					\n																				\n																			\n																		\n																		\n																	\n																\n															\n															\n														\n													\n												\n												\n											\n										\n									\n									\n								\n							\n						\n						\n					\n				\n			\n			\n		\n		\n			\n			\n				\n					\n						\n						\n							\n								\n									\n									\n										\n											\n												\n												\n													\n														\n															\n															\n																\n																	\n																		\n																		\n																			\n																				\n																					\n																					\n																						\n																							\n																								Our Partners\n																							\n																						\n																					\n																					\n																				\n																			\n																		\n																		\n																	\n																\n															\n															\n														\n													\n												\n												\n											\n										\n									\n									\n								\n							\n						\n						\n					\n				\n			\n			\n		\n		\n			\n			\n				\n					\n						\n						\n							\n								\n									\n									\n										\n											\n												\n												\n													\n														\n															\n															\n																\n																	\n																		\n																		\n																			\n																				\n																					\n																					\n																						\n																							\n																								\n																							\n																						\n																					\n																					\n																				\n																			\n																		\n																		\n																	\n																\n															\n															\n														\n													\n												\n												\n											\n										\n									\n									\n								\n							\n						\n						\n					\n				\n			\n			\n		\n		\n			 \n		\n		\n			\n			\n				\n					\n						\n						\n							\n								\n									\n									\n										\n											\n												\n												\n													\n														\n															\n															\n																\n																	\n																		\n																		\n																			\n																				\n																					\n																					\n																						\n																							\n																								\n																							\n																						\n																					\n\n																					 \n																					\n																				\n																			\n																		\n\n																		 \n																		 \n\n																		\n																			\n																				\n																					\n																					\n																						\n																							\n																								Scan or click on the QR Code \n																							\n																						\n																					\n																					\n																				\n																			\n																		\n\n																		 \n																		\n																	\n																\n															\n															\n															\n															\n																\n																	\n																		\n																		\n																			\n																				\n																					\n																					\n																						\n																							\n																								Details of the event\n																							\n																						\n																					\n																					\n																				\n																			\n																		\n\n																		 \n\n																		\n																			\n																				\n																					\n																					\n																						\n																							\n																								Date : \n																								Saturday 9 December \n																								 \n																								Time :\n																								From 5:00 pm - 9:00 pm\n																								 \n																								Address: \n																								Sofitel Hongqiao -\n																								Min Hang 666 Taihong Lu, near Shenbin Lu\n																								泰虹路666号 近申滨路\n																								 \n																								Fees:\n																								Adult: 300 RMB\n																								Children under 12: 200 RMB\n																								Children under 3: Free \n																							\n																						\n																					\n																					\n																				\n																			\n																		\n																		\n																	\n																\n															\n															\n														\n													\n												\n												\n											\n										\n									\n									\n								\n							\n						\n						\n					\n				\n			\n			\n		\n	\n
BEGIN:VALARM
ACTION:DISPLAY
TRIGGER:-PT60M
DESCRIPTION:CCI France Chine Christmas Cocktail in Shanghai
END:VALARM
END:VEVENT
END:VCALENDAR