BEGIN:VCALENDAR
VERSION:2.0
X-WR-TIMEZONE:Europe/Paris
PRODID:-//Audencia//NONSGML v1.0//EN
CALSCALE:GREGORIAN
BEGIN:VEVENT
SUMMARY:CCI France Chine Event: The impact of AI on work environment in China and around the world
DTSTART:20231220T113000
DTEND:20231220T130000
UID:1690
DTSTAMP:20260425T210144
LOCATION:CCI FRANCE CHINE Shanghai Office
DESCRIPTION:\n \n\nIntroduction\n\nAs organizations race to deploy AI, they face a major hurdle: How to adapt the workforce in order for it to be performant, not redundant?\n\n \n\nAgenda\n\n\n	What AI does to labor\n	What your staff needs to start doing, right now\n	How the company can assist and support them\n\n\n \n\nDate: Wednesday 20 December \n\nTime: 6:30pm to 8:00pm\n\nFees: Free for Audencia Alumni & CCI FRANCE CHINE members\n\nLanguage: English\n\nFormat: In-person + Webinar\n\nVenue: CCI FRANCE CHINE Shanghai Office or Webinar  \n\n \n\nPlease scan the QR Code or click here\n\n\n
BEGIN:VALARM
ACTION:DISPLAY
TRIGGER:-PT60M
DESCRIPTION:CCI France Chine Event: The impact of AI on work environment in China and around the world
END:VALARM
END:VEVENT
END:VCALENDAR