BEGIN:VCALENDAR
VERSION:2.0
X-WR-TIMEZONE:Europe/Paris
PRODID:-//Audencia//NONSGML v1.0//EN
CALSCALE:GREGORIAN
BEGIN:VEVENT
SUMMARY:CCI France Chine Beaujolais Nouveau & Christmas Celebration in Shenzhen
DTSTART:20231214T120000
DTEND:20231214T160000
UID:1689
DTSTAMP:20260425T205948
LOCATION:Shangri-La Luohu Hotel Shenzhen 深圳罗湖香格里拉大酒店 2/F Guangzhou/Shenzhen Ballroom 二楼广州深圳厅 East Side, Railway Station, 1002 Jianshe Road, Shenzhen, China 中国深圳市建设路1002号火车站东侧
DESCRIPTION:\n \n\nOn the occasion of the Beaujolais Nouveau 2023, CCI FRANCE CHINE, in partnership with the General Consulate of France in Guangzhou, Georges Duboeuf and Canton Accueil, would like to invite you to celebrate the long-awaited Beaujolais Nouveau Festival.\n中国法国工商会与法国驻广州总领事馆、Georges Duboeuf酒庄和Canton Accueil合作，我们诚邀您与我们一起庆祝期待已久的博若莱新酒节。\n\n \n\nThe celebration will happily blend dinner feasts, live show, social networking and of course the tasting of the Beaujolais Nouveau wines. As always, our catering partners will be on hand to serve traditional French specialties.\n\n本次活动将融合晚宴、现场表演、商务社交，以及博若莱新酒的品鉴。我们的餐饮合作伙伴将一如既往地在欢迎酒会上提供传统的法国特色菜肴。\n\n \n\nThe Beaujolais Nouveau & Christmas Celebrations 2023 will take place on Wednesday, December 13th, 2023, in Guangzhou at Sofitel Guangzhou Sunrich, and on Thursday, December 14th. 2023, in Shenzhen Luohu Shangri-La Hotel. \n博若莱新酒暨圣诞节庆祝活动将于2023年12月13日周三在广州圣丰索菲特酒店及12月14日周四在深圳罗湖香格里拉酒店举行。\n\n \n\nLIMITED TICKETS \n\n限量门票\n\nSince the number of tickets is limited, we will treat your registrations on a first-come, first-served basis!\n\n门票数量有限，先到先得！\n \n\nDates 日期\n\nWednesday, 13 December 2023 in Guangzhou\n\n12月13日周三，广州\n\nThursday, 14 December 2023 in Shenzhen\n\n12月14日周四，深圳\n\n \n\nTime 时间\n\n7:00 PM to 11:00 PM\n\nPrice 价格\n\nAudencia Alumni & CCIFC Member 校友及会员价: 390 RMB\n\n\nVenues 地址\n\nGuangzhou 广州场:\n\nSofitel Guangzhou Sunrich广州圣丰索菲特酒店\n\n3/F Grand Ballroom 三楼大宴会厅\n\nNo. 988, Guangzhou Avenue Central, Tianhe District, Guangzhou City\n\n广州市天河区广州大道中988号\n\n \n\nShenzhen 深圳场:\n\nShangri-La Luohu Hotel Shenzhen 深圳罗湖香格里拉大酒店\n\n2/F Guangzhou/Shenzhen Ballroom 二楼广州深圳厅\n\nEast Side, Railway Station, 1002 Jianshe Road, Shenzhen 518001, China\n\n中国深圳市建设路1002号火车站东侧\n\nRegistration: \n\nPlease scan the QR Code or click here.\n\n
BEGIN:VALARM
ACTION:DISPLAY
TRIGGER:-PT60M
DESCRIPTION:CCI France Chine Beaujolais Nouveau & Christmas Celebration in Shenzhen
END:VALARM
END:VEVENT
END:VCALENDAR