BEGIN:VCALENDAR
VERSION:2.0
X-WR-TIMEZONE:Europe/Paris
PRODID:-//Audencia//NONSGML v1.0//EN
CALSCALE:GREGORIAN
BEGIN:VEVENT
SUMMARY:CLUB ACTIVITES CULTURELLES | Visite guidée - Exposition Berthe Morisot et le XVIIIe siècle
DTSTART:20240204T103000
DTEND:20240204T121500
UID:1687
DTSTAMP:20260425T210147
LOCATION:Musée Marmottan Monet 2 Rue Louis Boilly 75016 Paris
DESCRIPTION:\nLe Club Activités Culturelles organise une visite guidée de l'exposition "Berthe Morisot et le XVIIIe siècle​" le dimanche 4 février à 10h30.\n\nPrésentée en partenariat avec la Dulwich Picture Gallery de Londres, cette exposition soulignera l'attention portée à la peinture du grand siècle, par cette grande figure féminine de l'impressionnisme. Ainsi les portraits de Berthe seront confrontés à ceux de Fragonard, ses natures mortes, à celles de Chardin, ses scènes de genre à celles de François Boucher... De très belles toiles de Berthe Morisot, revisitées à travers les toiles XVIIIe siècle qui l'ont inspirées.\n\n\nPlaces limitées, inscriptions obligatoires !\n\n\n\nQuestions : nushad.merchant@audencia.com\n\n 
BEGIN:VALARM
ACTION:DISPLAY
TRIGGER:-PT60M
DESCRIPTION:CLUB ACTIVITES CULTURELLES | Visite guidée - Exposition Berthe Morisot et le XVIIIe siècle
END:VALARM
END:VEVENT
END:VCALENDAR