BEGIN:VCALENDAR
VERSION:2.0
X-WR-TIMEZONE:Europe/Paris
PRODID:-//Audencia//NONSGML v1.0//EN
CALSCALE:GREGORIAN
BEGIN:VEVENT
SUMMARY:CLUB CULTURE & MANAGEMENT : L'IA au coeur de vos projet culturels - l'IA en pratique et décomplexée
DTSTART:20231206T190000
DTEND:20231206T210000
UID:1686
DTSTAMP:20260425T210611
LOCATION:TBC
DESCRIPTION:?L'intelligence artificielle vous semble incontournable, mais vous ne savez pas par où commencer ? \n\nRetrouvez le club culture et management mercredi 6 décembre pour une série d'ateliers permettant de tester l'IA, avec 3 acteurs experts du domaine : \n\n?Afifia B., Country Social Lead chez Canva France\n?Valentin Schmite ?, Cofondateur d'Ask Mona\n♦️Ilyès Talbi et Alexandre Lavallee, Associés de Passeport IA\n\nModérateurs :\n\nJuliette Félix, Avocate associée - Herald avocats\nNadine Bilong, Account Director Expert social Media - Reworld Media\n \nRéservez votre place dès maintenant !\n\nVous pourrez expérimenter par vous même les dernières innovations, et même apprendre à prompter. À vos agendas !\n\nL'équipe du Club Culture & Management\n \n\n 
BEGIN:VALARM
ACTION:DISPLAY
TRIGGER:-PT60M
DESCRIPTION:CLUB CULTURE & MANAGEMENT : L'IA au coeur de vos projet culturels - l'IA en pratique et décomplexée
END:VALARM
END:VEVENT
END:VCALENDAR