BEGIN:VCALENDAR
VERSION:2.0
X-WR-TIMEZONE:Europe/Paris
PRODID:-//Audencia//NONSGML v1.0//EN
CALSCALE:GREGORIAN
BEGIN:VEVENT
SUMMARY:PROGRAMME MS MROS : Des Mureaux aux Jeux Olympiques : un parcours inspirant qui mêle boxe de haut niveau et engagement citoyen
DTSTART:20231128T180000
DTEND:20231128T193000
UID:1685
DTSTAMP:20260425T205844
LOCATION:Audencia Campus Paris Saint-Ouen 4 Passage Colisée 93400 Saint-Ouen-sur-Seine
DESCRIPTION:Titre : Des Mureaux aux Jeux Olympiques : un parcours inspirant qui mêle boxe de haut niveau et engagement citoyen\n\nQui : Mokhtar Hadjri, ancien entraîneur de boxe de Tony Yoka, officiel de la boxe aux Jeux Olympiques de Paris 2024, et s'engage activement dans le développement de la boxe et de la handiboxe pour les jeunes des Mureaux\n\nQuoi : Cette conférence mettra en lumière son expérience en tant qu'entraîneur de haut niveau, son rôle crucial dans les Jeux Olympiques de Paris 2024, ainsi que l'impact social de la boxe. Elle offrira des perspectives uniques sur le monde de la boxe et mettra en évidence comment le sport peut transformer des vies et des communautés.\n\nQuand : Mardi 28 novembre à 18h\n\nOù : Salle 005 du Campus de Paris d'Audencia - 4 Passage Colisée, 93400 Saint-Ouen-sur-Seine\n\n \n\nLe lien de la billetterie : https://tinyurl.com/mr2cjtrh\n\n\n
BEGIN:VALARM
ACTION:DISPLAY
TRIGGER:-PT60M
DESCRIPTION:PROGRAMME MS MROS : Des Mureaux aux Jeux Olympiques : un parcours inspirant qui mêle boxe de haut niveau et engagement citoyen
END:VALARM
END:VEVENT
END:VCALENDAR