BEGIN:VCALENDAR
VERSION:2.0
X-WR-TIMEZONE:Europe/Paris
PRODID:-//Audencia//NONSGML v1.0//EN
CALSCALE:GREGORIAN
BEGIN:VEVENT
SUMMARY:SOIREE SOLIDAIRE [Nantes]
DTSTART:20231204T000000
DTEND:20231204T000000
UID:1684
DTSTAMP:20260425T210150
LOCATION:Audencia Atlantic campus 8, route de la Jonelière 44300 NANTES
DESCRIPTION:\n? SOIREE ANNONCE DES RESULTATS ?\n\nTout le monde peut participer, Alumni ou non !\n\nPendant tout le mois de novembre, vous avez pu participer à la tombola solidaire proposée par le BDE Audencia 2023, associé à la Fondation Audencia.\n\nPour connaître le nom des gagnants et passer une bonne soirée, rendez-vous lundi 4 décembre à 18h30 dans la salle forum d'Audencia Atlantic campus.\n\n \n>> Je réserve ma place en cliquant ici <<\n\n\nParmi les nombreux lots, quatre diplômés de l'Ecole en offrent 15 généreusement :\n    - Simon Daspe (GE 13) pour son livre ‘En Solex Simon’ ;\n    - Juliette Hurtaud (SCOM 22) et Caroline Limousin (SCOM 15) pour le Puy du Fou ;\n    - Xavier Sauzay (GE 17) pour ses chaussettes Label chaussette.\n \n        \n\n\n \n\n \n\n\n \n\n
BEGIN:VALARM
ACTION:DISPLAY
TRIGGER:-PT60M
DESCRIPTION:SOIREE SOLIDAIRE [Nantes]
END:VALARM
END:VEVENT
END:VCALENDAR