BEGIN:VCALENDAR
VERSION:2.0
X-WR-TIMEZONE:Europe/Paris
PRODID:-//Audencia//NONSGML v1.0//EN
CALSCALE:GREGORIAN
BEGIN:VEVENT
SUMMARY:CLUB ACTIVITES CULTURELLES | Soirée Théâtre "L'addition"
DTSTART:20240201T200000
DTEND:20240201T213000
UID:1683
DTSTAMP:20260425T210007
LOCATION:Théâtre Le Monfort 106 Rue Brancion 75015 Paris
DESCRIPTION:\nL’ADDITION\n\nTim Etchells – Bert & Nasi\n\nthéâtre / performance\n\nle 1er février à 20h\n\nau Théâtre Silvia Monfort\n\n\n\nLe Club Activités Culturelles organise une soirée "théâtre" le jeudi 1er février à 20h. \n\nCauchemar ou comédie ? Deux interprètes entrent en scène et tentent de nous décrire une scène, « la scène » : un client commande un verre, le serveur arrive. Et là, c’est le drame. Jouée et rejouée, entre flots de paroles et silence absolu, « la scène » bascule. \n\nLe metteur en scène britannique et directeur artistique de Forced Entertainment, Tim Etchells, élabore ici une performance comme il en a le secret, aussi drôle qu’explosive, en collaboration avec le duo de performeurs franco-britannique Bert & Nasi. Tous trois s’amusent à bousculer les mécanismes du théâtre autant que les relations de pouvoir, pour savoir qui va payer l’addition. À coups de répétitions, retournements, fine dramaturgie et sens du burlesque maîtrisé, l’histoire nous entraîne dans une course versatile, ludique et féroce.\n \n\nPlaces limitées, inscriptions obligatoires !\n\n\n\nQuestions ? : nushad.merchant@audencia.com\n\n 
BEGIN:VALARM
ACTION:DISPLAY
TRIGGER:-PT60M
DESCRIPTION:CLUB ACTIVITES CULTURELLES | Soirée Théâtre "L'addition"
END:VALARM
END:VEVENT
END:VCALENDAR