BEGIN:VCALENDAR
VERSION:2.0
X-WR-TIMEZONE:Europe/Paris
PRODID:-//Audencia//NONSGML v1.0//EN
CALSCALE:GREGORIAN
BEGIN:VEVENT
SUMMARY:Fondation [online]  | TOMBOLA SOLIDAIRE en novembre
DTSTART:20231201T160000
DTEND:20231203T235900
UID:1682
DTSTAMP:20260425T205840
LOCATION:
DESCRIPTION:\n? Et si vous tentiez votre chance ? ?\n\nTout le monde peut participer, Alumni ou non !\n\nPendant tout le mois de novembre, le BDE Audencia 2023 s'associe à la Fondation Audencia et vous invite à participer à la tombola solidaire.\n \n>> J'achète mes tickets <<\n\n1 ticket = 2€ = 1 chance de gagner\n\n\n	Pour multiplier vos chances, prenez-en plusieurs !\n	100% des bénéfices seront reversés à la Fondation Audencia pour financer des bourses pour les étudiants\n\n\nParmi les nombreux lots, quatre diplômés de l'Ecole en offrent 15 généreusement :\n    - Simon Daspe (GE 13) pour son livre ‘En Solex Simon’ ;\n    - Juliette Hurtaud (SCOM 22) et Caroline Limousin (SCOM 15) pour le Puy du Fou ;\n    - Xavier Sauzay (GE 17) pour ses chaussettes Label chaussette.\n \n        \n\n\n \n\nANNONCE DES GAGNANTS\nlors d'une grande soirée nantaise le 4 décembre\n>> Je m'inscris à la soirée\n\n\nPour connaître le nom des gagnants, rendez-vous lundi 4 décembre à 18h30 dans la salle forum d'Audencia Atlantic campus (8, route de la Jonelière à Nantes), pour une grande soirée... pensez à vous inscrire !\n \n\n
BEGIN:VALARM
ACTION:DISPLAY
TRIGGER:-PT60M
DESCRIPTION:Fondation [online]  | TOMBOLA SOLIDAIRE en novembre
END:VALARM
END:VEVENT
END:VCALENDAR