BEGIN:VCALENDAR
VERSION:2.0
X-WR-TIMEZONE:Europe/Paris
PRODID:-//Audencia//NONSGML v1.0//EN
CALSCALE:GREGORIAN
BEGIN:VEVENT
SUMMARY:IPAC | EGC | EAC | Before Homecoming Day | Années 90
DTSTART:20231125T150000
DTEND:20231125T173000
UID:1681
DTSTAMP:20260425T210610
LOCATION:Guest Suite 10, rue Magdeleine 44200 Nantes
DESCRIPTION:Chers alumni ?\n \n?En complément de la soirée du Homecoming Day, nous vous proposons un before plein de surprises sur-mesure pour vos promotions sur le thème années 90 et 2000 ??\nA cette occasion, Thomas Mathieu (P2012) nous fait l’honneur de nous accueillir au sein de ses locaux Guest Suite le samedi 25 novembre de 15h à 17h30.\n\n\nL’idée est de vous permettre de vous retrouver en amont de la soirée dans un lieu privé (avec vue sur la Loire et votre ancien campus !) de manière plus intime ☕?, et de révéler la Madeleine de Proust de vos années étudiantes. ?\n \n\n\n\nInformations pratiques pour l'accès aux locaux de Guest Suite : \n\nEvénement gratuit. Inscription obligatoire.\nPour toute information complémentaire ou demande d'inscription, merci de contacter Sixtine Pontroue sur LinkedIn ou par mail spontroue@audencia.com\n 
BEGIN:VALARM
ACTION:DISPLAY
TRIGGER:-PT60M
DESCRIPTION:IPAC | EGC | EAC | Before Homecoming Day | Années 90
END:VALARM
END:VEVENT
END:VCALENDAR