BEGIN:VCALENDAR
VERSION:2.0
X-WR-TIMEZONE:Europe/Paris
PRODID:-//Audencia//NONSGML v1.0//EN
CALSCALE:GREGORIAN
BEGIN:VEVENT
SUMMARY:NANTES | Afterwork Noel Solidaire
DTSTART:20231211T183000
DTEND:20231211T230000
UID:1680
DTSTAMP:20260425T210028
LOCATION:BERLIN 1989, 2 rue des Marchandises, 44200 Nantes
DESCRIPTION:? Le Chapter Nantes vous convie à son afterwork Noel solidaire au profit de l'association Tinhi Kmou au Berlin 1989 ?\n\n\n? A vos placards, greniers, garages, bibliothèques, tiroirs du bas de la commode...\n\nEn cette fin d'année, profitez de faire le tri ! Tinhi Kmou (Ancien Monde) est une association nantaise à but non lucratif qui s'engage dans la lutte contre le gaspillage. A l'occasion de cet afterwork, nous vous invitons à donner :\n\nJouets, livres, affaires de puériculture... L'association sera présente pour récupérer les dons directement ! \n\n?? Nous aurons la joie de vous retrouver pour cet afterwork festif au cours duquel vous pourrez également renouveler votre photo de profil LinkedIn et découvrir, en avant-première, un nouveau projet Audencia Alumni pour le réseau nantais ! \n\nHâte de vous y retrouver ! \n\nMarjorie & Sixtine
BEGIN:VALARM
ACTION:DISPLAY
TRIGGER:-PT60M
DESCRIPTION:NANTES | Afterwork Noel Solidaire
END:VALARM
END:VEVENT
END:VCALENDAR