BEGIN:VCALENDAR
VERSION:2.0
X-WR-TIMEZONE:Europe/Paris
PRODID:-//Audencia//NONSGML v1.0//EN
CALSCALE:GREGORIAN
BEGIN:VEVENT
SUMMARY:CLUB INTERNATIONALS IN FRANCE | Chinese New Year Dinner in Paris
DTSTART:20240202T203000
DTEND:20240202T230000
UID:1679
DTSTAMP:20260425T210002
LOCATION:DaLongYi Hotpot, 74 Bd de Sébastopol, 75003 Paris
DESCRIPTION:\n\nTo celebrate the Lunar New Year, Audencia Alumni invites you to the traditional dinner to share authentic Chinese food.\n\nOn the day of "Little New Year" 小年, what would be better than trying out the newly opened Chengdu Hot Pot?\n\nDate & Time: 20:30, Friday 2 February 2024\nLocation: DaLongYi Hot Pot, 74 Bd de Sébastopol, 75003 Paris\n\nAny questions, please contact tcliu@audencia.com\n \n\nPlaces are limited, book yours now! 
BEGIN:VALARM
ACTION:DISPLAY
TRIGGER:-PT60M
DESCRIPTION:CLUB INTERNATIONALS IN FRANCE | Chinese New Year Dinner in Paris
END:VALARM
END:VEVENT
END:VCALENDAR