BEGIN:VCALENDAR
VERSION:2.0
X-WR-TIMEZONE:Europe/Paris
PRODID:-//Audencia//NONSGML v1.0//EN
CALSCALE:GREGORIAN
BEGIN:VEVENT
SUMMARY:CCI France Chine Event: Sino-French Job Fair
DTSTART:20231202T060000
DTEND:20231202T100000
UID:1678
DTSTAMP:20260425T210119
LOCATION:In Beijing: CCIFC Beijing Office In Shanghai: Tongji University
DESCRIPTION:\n \n\nDate: Saturday 2 December 2023, 1:00-5:00pm \nEvent Format: on site \nVenue: \n\n\n	In Beijing: CCIFC Beijing Office\n	In Shanghai: Tongji University\n\n\nCandidate Registration: \n \n\nBeijing: Please scan the QR Code or click here\n\n\n\nShanghai: Please scan the QR Code or click here\n\n
BEGIN:VALARM
ACTION:DISPLAY
TRIGGER:-PT60M
DESCRIPTION:CCI France Chine Event: Sino-French Job Fair
END:VALARM
END:VEVENT
END:VCALENDAR