BEGIN:VCALENDAR
VERSION:2.0
X-WR-TIMEZONE:Europe/Paris
PRODID:-//Audencia//NONSGML v1.0//EN
CALSCALE:GREGORIAN
BEGIN:VEVENT
SUMMARY:CCI France Chine Event: Compliance Guidance on Starting E-Commerce in China
DTSTART:20231128T113000
DTEND:20231128T130000
UID:1677
DTSTAMP:20260425T210023
LOCATION:CCI FRANCE CHINE Shanghai Office
DESCRIPTION:\n \nIntroduction\n\nIn recent years, China has witnessed a continuous increase in the transaction scale of e-commerce platforms. As people gradually develop the habit of shopping online, more and more companies have begun to expand their online sales channels. Under the topic of “How to do e-commerce in China?”, we would like to introduce different e-commerce business models (advantages, application scope etc.), and help you to identify typical compliance risks in e-commerce and provide corresponding compliance solutions.\n \n\nOutline\n\nA. Case Study: Various Ways to Selling My Products On-line\n\n-      Sales via Self-established Platforms (e.g., official website)\n\n-      Sales via Third-party Platforms (Tmall, JD etc.)\n\n-      Special Model: Cross-border E-commerce Retail Import\n\n \n\nB. E-commerce Compliance Highlights\n\n-      Advertising & Promotion\n\n-      IP Protection\n\n-      Data Compliance\n \n\nDate: Tuesday 28 November \n\nTime: 6:30pm to 8:00pm\n\nLanguage: English\n\nFormat: in person + Webinar\n\nVenue : CCI FRANCE CHINE Shanghai Office    \n\nScan the QR code or click here to register\n\n \n\n
BEGIN:VALARM
ACTION:DISPLAY
TRIGGER:-PT60M
DESCRIPTION:CCI France Chine Event: Compliance Guidance on Starting E-Commerce in China
END:VALARM
END:VEVENT
END:VCALENDAR