BEGIN:VCALENDAR
VERSION:2.0
X-WR-TIMEZONE:Europe/Paris
PRODID:-//Audencia//NONSGML v1.0//EN
CALSCALE:GREGORIAN
BEGIN:VEVENT
SUMMARY:CCI France Chine Event: How martech evolutions empower B2B companies to grow sustainably？
DTSTART:20231114T113000
DTEND:20231114T140000
UID:1676
DTSTAMP:20260425T205949
LOCATION:CCI FRANCE CHINE Shanghai Office
DESCRIPTION:\n \n\nIntroduction\n\nIn today's B2B landscape, marketing plays a crucial role beyond merely bridging the gap between clients and brands. Factors such as increased traffic acquisition costs, the need for effective Account-Based Marketing (ABM) collaborations, and seamless inter-departmental communication are essential for delivering a smooth and efficient customer journey that not only offers an exceptional experience but also drives the sales pipeline.\n\nThe rapid advancement of AI and business automation tools has led to a fundamental shift in the way we engage, interact, and communicate with our clients. These digital technologies are also redefining the workflows that enable companies to better understand and support their clients.\n\nIn the dawn of a new marketing era characterized by generative AI and hyper-automation, how can marketers more effectively empower companies to grow?\n\n \n\nDate: Tuesday 14 November \n\nTime: 6:30pm to 9:00pm\n\nLanguage: English \n\nFormat: Offline & Online\n\nVenue : CCI FRANCE CHINE Shanghai Office + Webinar   \n\nScan the QR code or click here to register \n\n \n\n\n 
BEGIN:VALARM
ACTION:DISPLAY
TRIGGER:-PT60M
DESCRIPTION:CCI France Chine Event: How martech evolutions empower B2B companies to grow sustainably？
END:VALARM
END:VEVENT
END:VCALENDAR