BEGIN:VCALENDAR
VERSION:2.0
X-WR-TIMEZONE:Europe/Paris
PRODID:-//Audencia//NONSGML v1.0//EN
CALSCALE:GREGORIAN
BEGIN:VEVENT
SUMMARY:AMBA Connect in Miami
DTSTART:20240126T183000
DTEND:20240127T033000
UID:1675
DTSTAMP:20260425T210053
LOCATION:Miami Herbert Business School, Miami, Florida, US
DESCRIPTION:What is AMBA Connect?\n\nAMBA Connect events are a series of member-focused, evening events designed to bring together student and graduate members from our ever-growing network of MBAs, MBMs and DBAs around the world.\n\nThese events are the perfect setting for future business leaders from AMBA-accredited programmes who wish to meet and exchange insights with like-minded peers, build their professional networks and hear from business leaders, academics, and thought leaders.\n\nIn January 2024 we find ourselves in Miami, and we invite our members from the United States and beyond to join us for an evening of high-level discussions, informative expert opinion and invaluable networking opportunities.\n\n\nDate: 26 January 2024\n\nTime: 18:30 – 21:30\n\nCost: £20 / $25 per entry\n\nVenue: Miami Herbert Business School\n\n\n	\n		\n			\n			\n				\n					\n						\n						\n							\n								\n									\n									Speaker: Christian Hasenoehrl, Senior Client, Partner and Global Leader at Korn Ferry\n									\n								\n							\n						\n						\n					\n				\n			\n\n			\n				\n					\n						\n						\n							\n								\n									\n								\n							\n						\n						\n					\n				\n			\n			\n		\n	\n\n\n\n	\n		\n			\n			CEOs and executives recognise AI's potential to transform business models. Korn Ferry's survey of 240 leaders globally highlights the need for adaptability amid AI's growth. The study explores AI's impact on work, questioning the role of human capital in the face of automation.\n			\n		\n	\n\n\n \n\nBOOK YOUR PLACE HERE\n\n \n\nProgramme\n\n18:30 – 19:00   Registration, Canapes & Welcome Drinks\n\n19:00 – 19:05   Welcome Address by AMBA & BGA\n\n19:05 – 20:00   Session: Humans still wanted – the future of work in an AI-driven world\n\n20:00 – 21:30   Networking & Refreshments\n \n\n\n\nAMBA Membership\nDid you graduate from an AMBA-accredited programme at Audencia?\n\nAlumni from Audencia's Grande Ecole and MBA (full-time/international, executive part-time & EuroMBA) programmes are invited by AMBA, the Association of MBAs for an evening of networking and relationship-building in Amsterdam with students and alumni of AMBA-accredited programmes.\n\nStudents and graduates of AMBA-accredited programmes are eligible for free AMBA membership, which provides a range of exclusive benefits.\nIf you have not activated your free AMBA membership, registering for this event and selecting 'Yes' in the 'Are you interested in AMBA membership question' you agree for AMBA to automatically activate your free membership (depending on eligibility) following the event and to begin receiving membership communications.\n\nIf you have any questions about AMBA membership please visit www.associationofmbas.com/students-and-graduates or contact the team via membership@associationofmbas.com
BEGIN:VALARM
ACTION:DISPLAY
TRIGGER:-PT60M
DESCRIPTION:AMBA Connect in Miami
END:VALARM
END:VEVENT
END:VCALENDAR