BEGIN:VCALENDAR
VERSION:2.0
X-WR-TIMEZONE:Europe/Paris
PRODID:-//Audencia//NONSGML v1.0//EN
CALSCALE:GREGORIAN
BEGIN:VEVENT
SUMMARY:Club Marketing & Digital : Conférence sur l'Intelligence Artificielle
DTSTART:20231128T190000
DTEND:20231128T213000
UID:1673
DTSTAMP:20260425T210012
LOCATION:Numberly 28 Rue de Châteaudun 75009 Paris
DESCRIPTION: \n \n\nAlgorithmes de recommandations de produits, modèles de ciblages clients optimisés, chatbots de customer service, ... : l'Intelligence Artificielle (I.A.) s'est fait une place privilégiée au coeur des stratégies marketing depuis plusieurs années déjà. Mais les récents progrès fulgurants des modèles d'IA Générative, capables de générer de toute pièce du contenu écrit, visuel ou audio, marquent un nouveau tournant dans le rôle de ces outils.\n\nLors de notre prochaine rencontre dédiée aux impacts de l'IA pour les métiers du marketing, nos intervenants reviendront sur les dernières avancées techniques du domaine, leurs applications concrètes au service des stratégies client, et les enjeux de transformation qu'elles impliquent pour les équipes.\n\nRendez-vous le mardi 28 novembre à 19h dans les locaux de Numberly (Paris 9e).\n\nLes intervenantes :\n\n\n\nLaure Gery (GE 2011), Head of Digital Media and Programmatic, Numberly\n\n\n\n\n\n\nAnnia Champsaur, Senior Digital Marketing manager chez Numberly\n\n\n\nUne opportunité à ne pas manquer ! Une nouvelle fois, les équipes Numberly nous accueilleront chaleureusement dans leur locaux pour partager avec nous leur expertise et leurs innovations dans le marketing digital et la relation client. Cette soirée sera suivie d'un apéritif afterwork qui vous permettra aussi d'échanger avec les équipes de Numberly, dont plusieurs diplômés Audencia.\n\n\n\nInscriptions obligatoires\n\n\n\nQuestion : nushad.merchant@audencia.com\n\n\nA propos :\n\n\nBrigitte Neveu-Dérotrie (GE 85) anime le Club Marketing & Digital. Elle est fondatrice de Yélen communication, consultante et formatrice en marketing et communication digitale B2B.
BEGIN:VALARM
ACTION:DISPLAY
TRIGGER:-PT60M
DESCRIPTION:Club Marketing & Digital : Conférence sur l'Intelligence Artificielle
END:VALARM
END:VEVENT
END:VCALENDAR