BEGIN:VCALENDAR
VERSION:2.0
X-WR-TIMEZONE:Europe/Paris
PRODID:-//Audencia//NONSGML v1.0//EN
CALSCALE:GREGORIAN
BEGIN:VEVENT
SUMMARY:Chapter Singapore: Afterwork
DTSTART:20231130T133000
DTEND:20231130T170000
UID:1672
DTSTAMP:20260425T205951
LOCATION:Blu Jaz Capital Square 31 Pekin Street Singapore 048762
DESCRIPTION:\nChapter Singapore is organizing drinks & networking on Thursday 30 November at 6.30pm at Blu Jaz Capital Square (Address is : 31 Pekin Street, Singapore 048762).\n\nRegistrations are compulsory.\n\nPS: If you wish to join the Chapters' WhatsApp group, drop a line to nushad.merchant@audencia.com\n \n\n\n 
BEGIN:VALARM
ACTION:DISPLAY
TRIGGER:-PT60M
DESCRIPTION:Chapter Singapore: Afterwork
END:VALARM
END:VEVENT
END:VCALENDAR